BEGIN:VCALENDAR
VERSION:2.0
PRODID:-//hacksw/handcal//NONSGML v1.0//EN
CALSCALE:GREGORIAN
BEGIN:VTIMEZONE
TZID:America/Vancouver
BEGIN:DAYLIGHT
TZOFFSETFROM:-0600
TZNAME:MDT
TZOFFSETTO:-0600
END:DAYLIGHT
END:VTIMEZONE
DTSTAMP:20260419T190043Z
UID:69e588cb59bcc
BEGIN:VEVENT
DESCRIPTION:<p>Friday, April 24 is the last day of the semester and all library material must be returned by this date. Make sure your <a href="/my-library-account"><strong>library account</strong></a> is clear of all fines and materials so that a <a href="/borrowing?qt-guide=3#239"><strong>hold is not placed</strong></a> on your College record!&nbsp;</p>
DTSTART;TZID=America/Vancouver:20260424T080000
DTEND;TZID=America/Vancouver:20260424T210000
SUMMARY:Final due date for all library materials
URL;VALUE=URI:/events/series/8
END:VEVENT
END:VCALENDAR