BEGIN:VCALENDAR
VERSION:2.0
PRODID:-//hacksw/handcal//NONSGML v1.0//EN
CALSCALE:GREGORIAN
BEGIN:VTIMEZONE
TZID:America/Vancouver
BEGIN:DAYLIGHT
TZOFFSETFROM:-0600
TZNAME:MDT
TZOFFSETTO:-0600
END:DAYLIGHT
END:VTIMEZONE
DTSTAMP:20260423T151301Z
UID:69ea996d7b7c0
BEGIN:VEVENT
DESCRIPTION:<p>First day of the summer semester. See our full <a href="hours">Library</a> and <a href="/learningcentre/contacts">Learning Centre</a> hours.&nbsp;</p>

DTSTART;TZID=America/Vancouver:20260504T000000
DTEND;TZID=America/Vancouver:20260504T235900
SUMMARY:First Day of Summer Semester
URL;VALUE=URI:/events/series/42
END:VEVENT
END:VCALENDAR