BEGIN:VCALENDAR
VERSION:2.0
PRODID:-//hacksw/handcal//NONSGML v1.0//EN
CALSCALE:GREGORIAN
BEGIN:VTIMEZONE
TZID:America/Vancouver
BEGIN:DAYLIGHT
TZOFFSETFROM:-0600
TZNAME:MDT
TZOFFSETTO:-0600
END:DAYLIGHT
END:VTIMEZONE
DTSTAMP:20260423T145821Z
UID:69ea95fda7469
BEGIN:VEVENT
LOCATION:Online, 
DESCRIPTION:<p>Learning Centre Basics Workshop Series: Learning Centre services</p><p>Monday, May 4<br>10:30 - 11:30am<br>Online</p><p><a class="button" href="https://douglas.mywconline.com/">Register now</a></p>
DTSTART;TZID=America/Vancouver:20260504T103000
DTEND;TZID=America/Vancouver:20260504T113000
SUMMARY:Learn about Learning Centre services
URL;VALUE=URI:/learn-about-learning-centre-services-0
END:VEVENT
END:VCALENDAR