BEGIN:VCALENDAR
VERSION:2.0
PRODID:-//hacksw/handcal//NONSGML v1.0//EN
CALSCALE:GREGORIAN
BEGIN:VTIMEZONE
TZID:America/Vancouver
BEGIN:DAYLIGHT
TZOFFSETFROM:-0600
TZNAME:MDT
TZOFFSETTO:-0600
END:DAYLIGHT
END:VTIMEZONE
DTSTAMP:20260423T145327Z
UID:69ea94d7af541
BEGIN:VEVENT
LOCATION:Online, 
DESCRIPTION:<p>Learning Centre Basics Workshop Series: Taking Notes in Class</p><p>Tuesday, May 5<br>11:30am - 12:30pm<br>Online</p><p><a class="button" href="https://douglas.mywconline.com">Register now</a></p>
DTSTART;TZID=America/Vancouver:20260505T113000
DTEND;TZID=America/Vancouver:20260505T123000
SUMMARY:Taking Notes in Class
URL;VALUE=URI:/events/series/125
END:VEVENT
END:VCALENDAR