BEGIN:VCALENDAR
VERSION:2.0
PRODID:-//hacksw/handcal//NONSGML v1.0//EN
CALSCALE:GREGORIAN
BEGIN:VTIMEZONE
TZID:America/Vancouver
BEGIN:DAYLIGHT
TZOFFSETFROM:-0600
TZNAME:MDT
TZOFFSETTO:-0600
END:DAYLIGHT
END:VTIMEZONE
DTSTAMP:20260423T145556Z
UID:69ea956c9b297
BEGIN:VEVENT
LOCATION:Online, 
DESCRIPTION:<p><strong>Learning Centre Basics Workshop Series: Learn About Canadian Academic Life</strong><br><br>Monday, May 4<br>11:30am - 12:00pm<br>Teams</p><p><a class="button" href="https://douglas.mywconline.com">Register now</a></p>
DTSTART;TZID=America/Vancouver:20260504T113000
DTEND;TZID=America/Vancouver:20260504T120000
SUMMARY:Learn About Canadian Academic Life
URL;VALUE=URI:/events/series/123
END:VEVENT
END:VCALENDAR