BEGIN:VCALENDAR
VERSION:2.0
PRODID:-//hacksw/handcal//NONSGML v1.0//EN
CALSCALE:GREGORIAN
BEGIN:VTIMEZONE
TZID:America/Vancouver
BEGIN:DAYLIGHT
TZOFFSETFROM:-0600
TZNAME:MDT
TZOFFSETTO:-0600
END:DAYLIGHT
END:VTIMEZONE
DTSTAMP:20260419T055534Z
UID:69e4d0c68ab9c
BEGIN:VEVENT
DESCRIPTION:<p>Bring your lunch and join us in the New West Library Event Space for a group viewing as we <strong>livestream</strong> <a href="https://www.crowdcast.io/c/0wzs9iu1q225">Cory Doctorow: Enshittification, a BC Libraries Present virtual author talk with author and journalist Cory Doctorow</a>.</p><p>&nbsp;</p><blockquote><p>In November 2022, Cory Doctorow coined the term "enshittification" to describe the decay of digital platforms as the owners prioritize profit over the experience of their users. Cory's argument clearly resonated and helped people realize that enshittification is everywhere, creeping into many of the services that we now rely on—so much so that the American Dialect Society named it its 2023 Word of the Year, and it was cited as an inspiration for the 2025 season of the popular dystopic TV series Black Mirror.</p><p>Cory Doctorow will discuss his highly anticipated new book Enshittification with public policy expert Vass Bednar, to help us understand why Big Tech is the way it is, and how we can disenshittify the internet.</p></blockquote><p>&nbsp;</p><p>Visit <a href="https://www.crowdcast.io/%40bclibraries-present">BC Libraries Present</a> to see what else is coming up or watch previous virtual author streams.</p><p>&nbsp;</p>
DTSTART;TZID=America/Vancouver:20251121T120000
DTEND;TZID=America/Vancouver:20251121T130000
SUMMARY:Cory Doctorow: Enshittification: BC Libraries Present virtual author talk group livestream
URL;VALUE=URI:/cory-doctorow-enshittification-bc-libraries-present-virtual-author-talk-group-livestream-0
END:VEVENT
END:VCALENDAR